BEGIN:VCALENDAR
VERSION:2.0
PRODID:-//Elliston | Official Tourism Website - ECPv6.15.18//NONSGML v1.0//EN
CALSCALE:GREGORIAN
METHOD:PUBLISH
X-WR-CALNAME:Elliston | Official Tourism Website
X-ORIGINAL-URL:https://elliston.com.au
X-WR-CALDESC:Events for Elliston | Official Tourism Website
REFRESH-INTERVAL;VALUE=DURATION:PT1H
X-Robots-Tag:noindex
X-PUBLISHED-TTL:PT1H
BEGIN:VTIMEZONE
TZID:Australia/Adelaide
BEGIN:STANDARD
TZOFFSETFROM:+1030
TZOFFSETTO:+0930
TZNAME:ACST
DTSTART:20180331T163000
END:STANDARD
BEGIN:DAYLIGHT
TZOFFSETFROM:+0930
TZOFFSETTO:+1030
TZNAME:ACDT
DTSTART:20181006T163000
END:DAYLIGHT
BEGIN:STANDARD
TZOFFSETFROM:+1030
TZOFFSETTO:+0930
TZNAME:ACST
DTSTART:20190406T163000
END:STANDARD
BEGIN:DAYLIGHT
TZOFFSETFROM:+0930
TZOFFSETTO:+1030
TZNAME:ACDT
DTSTART:20191005T163000
END:DAYLIGHT
BEGIN:STANDARD
TZOFFSETFROM:+1030
TZOFFSETTO:+0930
TZNAME:ACST
DTSTART:20200404T163000
END:STANDARD
BEGIN:DAYLIGHT
TZOFFSETFROM:+0930
TZOFFSETTO:+1030
TZNAME:ACDT
DTSTART:20201003T163000
END:DAYLIGHT
END:VTIMEZONE
BEGIN:VEVENT
DTSTART;VALUE=DATE:20190701
DTEND;VALUE=DATE:20190801
DTSTAMP:20260425T020355
CREATED:20151009T035437Z
LAST-MODIFIED:20190509T055738Z
UID:3235-1561939200-1564617599@elliston.com.au
SUMMARY:Australian Salmon Fishing Championships Elliston
DESCRIPTION:AUSTRALIAN SALMON FISHING CHAMPIONSHIP  \nJULY 2019 \nWe have reached our 25th year of The Australian Salmon Fishing Championship which is held annually on the West Coast of the Eyre Peninsula during the winter months. This year for one month only from 1st of July to 31st of July 2019. \nSalmon may be caught from the shore between Mount Camel Beach and Sheringa Beach with a hook and line.  Entrants must purchase their tickets before catching salmon. The  salmon must be gutted and washed (not gilled or scaled) and presented on the day of capture to be weighed at the Elliston Community & Visitor Information Centre. \nTickets can be purchased for $10 at the Elliston Community and Visitor Information Centre\, Elliston Roadhouse\, Sheringa Roadhouse\, Elliston Hotel\, Elliston Waterloo Bay Caravan Park and Elliston Caravan Park. Tickets will also available in Port Lincoln\, locations to be announced. \n$1000 will be won for the heaviest salmon caught for the month of July with $300 for the runner up. \nEach week there will be a prize of $300 for the heaviest salmon and a prize of $200 for the mystery weight\, everyone has a chance to win! \nThe results will be announced on our website\, posters around town and on our\nFacebook page –  Australian Salmon Fishing Championship – Elliston \nThere are also some other opportunities to win prizes such as the \nElliston Winter Raffle – Tickets are available for $2 from participating businesses around Elliston\, There are some great prizes this year. \nPhotography competition – A little extra for those who like to take photos\, there is $50 up for grabs each month. \nEmail your photos of salmon fishing between Mount Camel and Sheringa to              info@elliston.com.au throughout July and at the end of each month we will post to our Facebook page to let the audience decide on the winning photo \nFor more information go to www.elliston.com.au/salmon. \nFacebook –  Australian Salmon Fishing Championship – Elliston \nInstagram –  ASFC Elliston \nContact us on 08 8687 9200. \nSending out a huge thank you to all of our sponsors and contestants for supporting this event! \nThe rules of the competition are –\n-The competition commences on 1st July and ends on 31st July 2019\n-Salmon must be caught with a hook and line from the shore between Mount Camel Beach and Sheringa Beach\, Eyre Peninsula.\n-Entrants must purchase a ticket ($10) Before catching their salmon to be weighed.\n-Salmon must be gutted and washed (not gilled or scaled) and be presented on the day of capture to be weighed.\n-maximum of three salmon per entrant per day can be weighed in.
URL:https://elliston.com.au/event/australian-salmon-fishing-championships-elliston-july-2019/
LOCATION:Elliston\, ELLISTON\, Elliston\, 5670
END:VEVENT
END:VCALENDAR