BEGIN:VCALENDAR
VERSION:2.0
PRODID:-//Elliston | Official Tourism Website - ECPv6.15.18//NONSGML v1.0//EN
CALSCALE:GREGORIAN
METHOD:PUBLISH
X-WR-CALNAME:Elliston | Official Tourism Website
X-ORIGINAL-URL:https://elliston.com.au
X-WR-CALDESC:Events for Elliston | Official Tourism Website
REFRESH-INTERVAL;VALUE=DURATION:PT1H
X-Robots-Tag:noindex
X-PUBLISHED-TTL:PT1H
BEGIN:VTIMEZONE
TZID:Australia/Adelaide
BEGIN:STANDARD
TZOFFSETFROM:+1030
TZOFFSETTO:+0930
TZNAME:ACST
DTSTART:20160402T163000
END:STANDARD
BEGIN:DAYLIGHT
TZOFFSETFROM:+0930
TZOFFSETTO:+1030
TZNAME:ACDT
DTSTART:20161001T163000
END:DAYLIGHT
BEGIN:STANDARD
TZOFFSETFROM:+1030
TZOFFSETTO:+0930
TZNAME:ACST
DTSTART:20170401T163000
END:STANDARD
BEGIN:DAYLIGHT
TZOFFSETFROM:+0930
TZOFFSETTO:+1030
TZNAME:ACDT
DTSTART:20170930T163000
END:DAYLIGHT
BEGIN:STANDARD
TZOFFSETFROM:+1030
TZOFFSETTO:+0930
TZNAME:ACST
DTSTART:20180331T163000
END:STANDARD
BEGIN:DAYLIGHT
TZOFFSETFROM:+0930
TZOFFSETTO:+1030
TZNAME:ACDT
DTSTART:20181006T163000
END:DAYLIGHT
END:VTIMEZONE
BEGIN:VEVENT
DTSTART;TZID=Australia/Adelaide:20170415T100000
DTEND;TZID=Australia/Adelaide:20170415T130000
DTSTAMP:20260424T064012
CREATED:20170322T032541Z
LAST-MODIFIED:20170322T032541Z
UID:3144-1492250400-1492261200@elliston.com.au
SUMMARY:ELLISTON EASTER CRAFT & PRODUCE MARKETS
DESCRIPTION:If you are interested in holding a stall at the Elliston Craft & Produce Market Day please contact Tracy info@elliston.com.au or 08 86879291
URL:https://elliston.com.au/event/elliston-easter-craft-produce-markets/
LOCATION:Elliston Community & Visitor Information Centre\, 6 Memorial Drive Elliston\, Elliston\, SA\, 5670\, Australia
END:VEVENT
END:VCALENDAR